BEGIN:VCALENDAR
VERSION:2.0
PRODID:-//HFN - ECPv6.15.20//NONSGML v1.0//EN
CALSCALE:GREGORIAN
METHOD:PUBLISH
X-ORIGINAL-URL:https://humanfactorsnetwork.se
X-WR-CALDESC:Händelser för HFN
REFRESH-INTERVAL;VALUE=DURATION:PT1H
X-Robots-Tag:noindex
X-PUBLISHED-TTL:PT1H
BEGIN:VTIMEZONE
TZID:Europe/Stockholm
BEGIN:DAYLIGHT
TZOFFSETFROM:+0100
TZOFFSETTO:+0200
TZNAME:CEST
DTSTART:20230326T010000
END:DAYLIGHT
BEGIN:STANDARD
TZOFFSETFROM:+0200
TZOFFSETTO:+0100
TZNAME:CET
DTSTART:20231029T010000
END:STANDARD
BEGIN:DAYLIGHT
TZOFFSETFROM:+0100
TZOFFSETTO:+0200
TZNAME:CEST
DTSTART:20240331T010000
END:DAYLIGHT
BEGIN:STANDARD
TZOFFSETFROM:+0200
TZOFFSETTO:+0100
TZNAME:CET
DTSTART:20241027T010000
END:STANDARD
BEGIN:DAYLIGHT
TZOFFSETFROM:+0100
TZOFFSETTO:+0200
TZNAME:CEST
DTSTART:20250330T010000
END:DAYLIGHT
BEGIN:STANDARD
TZOFFSETFROM:+0200
TZOFFSETTO:+0100
TZNAME:CET
DTSTART:20251026T010000
END:STANDARD
END:VTIMEZONE
BEGIN:VEVENT
DTSTART;TZID=Europe/Stockholm:20240307T130000
DTEND;TZID=Europe/Stockholm:20240308T120000
DTSTAMP:20260421T201002
CREATED:20240126T104320Z
LAST-MODIFIED:20240514T052353Z
UID:2626-1709816400-1709899200@humanfactorsnetwork.se
SUMMARY:Studiebesök: Lunds universitet och Pliktverket
DESCRIPTION:Den 7–8 mars erbjuder HFN två spännande studiebesök. Torsdagen den 7 mars besöker vi Institutionen för designvetenskaper på Lunds universitet och fredagen den 8 mars Plikt- och prövningsverket i Malmö. \nTorsdag 7 mars\n12.45 Samling\, Sölvegatan 26\, Lund\n13.00-16.00 Lunds Tekniska Högskola\, Institutionen för designvetenskaper\nVid Institutionen för designvetenskaper på Lunds universitet kommer de att presentera den Human Factors-relaterade forskning\, utbildning och samverkan de bedriver. Vi kommer också få en rundvandring med hands-on-demo av några av deras lab: VR-lab\, Termiskt klimatlab och Ljuslab. \nOm intresse finns bokar vi bord för gemensam middag till självkostnadspris. \nFredag 8 mars\n08.45 Samling\, Norra Vallgatan 100\, Malmö\n09.00-11.30 Plikt- och prövningsverket\, Malmö\nPlikt- och prövningsverket är en myndighet under Försvarsdepartementet och bemannar Försvarsmaktens krigsorganisation. Dessutom ansvarar de för hela antagningsprocessen till polisutbildningen och officersprogrammet. Vi kommer att få information om hur de bedriver sin verksamhet samt får en rundvandring i lokalerna. \nDet går bra att delta på ett av besöken eller båda. \nVarmt välkommen! \nAdministrativ information och anmälan\nI arrangemanget ingår studiebesök och fika och det är gratis för HFN-medlemmar.\nMax antal deltagare: 20\nHotell och resor: Bokning av hotell samt resor ombesörjs av deltagaren. \nDet går inte längre att anmäla sig till detta evenemang.
URL:https://humanfactorsnetwork.se/aktivitet/studiebesok-lunds-universitet-och-pliktverket/
LOCATION:Lund/Malmö
CATEGORIES:För medlemmar,studiebesök
END:VEVENT
END:VCALENDAR