BEGIN:VCALENDAR
VERSION:2.0
PRODID:-//HFN - ECPv6.15.20//NONSGML v1.0//EN
CALSCALE:GREGORIAN
METHOD:PUBLISH
X-WR-CALNAME:HFN
X-ORIGINAL-URL:https://humanfactorsnetwork.se
X-WR-CALDESC:Händelser för HFN
REFRESH-INTERVAL;VALUE=DURATION:PT1H
X-Robots-Tag:noindex
X-PUBLISHED-TTL:PT1H
BEGIN:VTIMEZONE
TZID:Europe/Stockholm
BEGIN:DAYLIGHT
TZOFFSETFROM:+0100
TZOFFSETTO:+0200
TZNAME:CEST
DTSTART:20230326T010000
END:DAYLIGHT
BEGIN:STANDARD
TZOFFSETFROM:+0200
TZOFFSETTO:+0100
TZNAME:CET
DTSTART:20231029T010000
END:STANDARD
BEGIN:DAYLIGHT
TZOFFSETFROM:+0100
TZOFFSETTO:+0200
TZNAME:CEST
DTSTART:20240331T010000
END:DAYLIGHT
BEGIN:STANDARD
TZOFFSETFROM:+0200
TZOFFSETTO:+0100
TZNAME:CET
DTSTART:20241027T010000
END:STANDARD
BEGIN:DAYLIGHT
TZOFFSETFROM:+0100
TZOFFSETTO:+0200
TZNAME:CEST
DTSTART:20250330T010000
END:DAYLIGHT
BEGIN:STANDARD
TZOFFSETFROM:+0200
TZOFFSETTO:+0100
TZNAME:CET
DTSTART:20251026T010000
END:STANDARD
END:VTIMEZONE
BEGIN:VEVENT
DTSTART;TZID=Europe/Stockholm:20240116T150000
DTEND;TZID=Europe/Stockholm:20240116T163000
DTSTAMP:20260423T163827
CREATED:20231025T130148Z
LAST-MODIFIED:20240117T062936Z
UID:2510-1705417200-1705422600@humanfactorsnetwork.se
SUMMARY:Webbinarium: Hands off\, brain off? The neural bases of active and passive driving
DESCRIPTION:Vad händer i hjärnan när vi lämnar över bilkörningen till automationen? Jordan Navarro berättar om metastudien\, som han utfört tillsammans med Emanuelle Reynaud\, som tittar på skillnader i neuroaktivering vid aktiv respektive passiv bilkörning. Navarro och Reynaud är båda verksamma som lärare och forskare vid Laboratoire d’Etude des Mécanismes Cognitifs\, Université de Lyon. Webbinariet är på engelska och enbart för medlemmar i HFN. Webbinariet är kostnadsfritt. \nLänk till artikeln: Hands off\, brain off? A meta-analysis of neuroimaging data during active and passive driving. \nPresentation Jordan Navarro
URL:https://humanfactorsnetwork.se/aktivitet/webbinarium-hands-off-brain-off-the-neural-bases-of-active-and-passive-driving/
LOCATION:Zoom
CATEGORIES:För medlemmar,Webbinarium
END:VEVENT
END:VCALENDAR