BEGIN:VCALENDAR
VERSION:2.0
PRODID:-//HFN - ECPv6.15.20//NONSGML v1.0//EN
CALSCALE:GREGORIAN
METHOD:PUBLISH
X-WR-CALNAME:HFN
X-ORIGINAL-URL:https://humanfactorsnetwork.se
X-WR-CALDESC:Händelser för HFN
REFRESH-INTERVAL;VALUE=DURATION:PT1H
X-Robots-Tag:noindex
X-PUBLISHED-TTL:PT1H
BEGIN:VTIMEZONE
TZID:Europe/Stockholm
BEGIN:DAYLIGHT
TZOFFSETFROM:+0100
TZOFFSETTO:+0200
TZNAME:CEST
DTSTART:20220327T010000
END:DAYLIGHT
BEGIN:STANDARD
TZOFFSETFROM:+0200
TZOFFSETTO:+0100
TZNAME:CET
DTSTART:20221030T010000
END:STANDARD
BEGIN:DAYLIGHT
TZOFFSETFROM:+0100
TZOFFSETTO:+0200
TZNAME:CEST
DTSTART:20230326T010000
END:DAYLIGHT
BEGIN:STANDARD
TZOFFSETFROM:+0200
TZOFFSETTO:+0100
TZNAME:CET
DTSTART:20231029T010000
END:STANDARD
BEGIN:DAYLIGHT
TZOFFSETFROM:+0100
TZOFFSETTO:+0200
TZNAME:CEST
DTSTART:20240331T010000
END:DAYLIGHT
BEGIN:STANDARD
TZOFFSETFROM:+0200
TZOFFSETTO:+0100
TZNAME:CET
DTSTART:20241027T010000
END:STANDARD
END:VTIMEZONE
BEGIN:VEVENT
DTSTART;TZID=Europe/Stockholm:20230926T133000
DTEND;TZID=Europe/Stockholm:20230926T153000
DTSTAMP:20260423T224702
CREATED:20230904T085401Z
LAST-MODIFIED:20230925T055239Z
UID:2418-1695735000-1695742200@humanfactorsnetwork.se
SUMMARY:Webbinarium: Jimmy Hammarbäck\, Saab Aeronautics
DESCRIPTION:Vad innebär det att förstå intentioner? Denna fråga är central i situationer där människor och autonoma system behöver ta hänsyn till varandras intentioner för effektiv samverkan. Exempelvis förväntas bemannade och obemannade stridsflygplan kunna samverka inom snar framtid\, vilket kräver att autonoma system behöver förstå och anpassa sig efter stridspiloternas intentioner i situationer med begränsad kommunikation. För dessa fall är intentionsmodeller ofta avgörande i förmågan att låta autonoma system resonera om vad deras mänskliga partner gör\, varför\, och hur de kommer fortsätta. Tyvärr är begreppet ”intention” ofta tvetydigt och metoder för att modellera intentioner beskrivs sällan\, vilket resulterar i svårigheter om vad och hur man kan modellera intentioner. \nI detta webbinarium presenterar Jimmy Hammarbäck\, Saab Aeronautics\, sin licentiatavhandling som behandlar dessa svårigheter\, med ett fokus på tre människocentrerade metoder för att beskriva och analysera intentioner i syfte att förbättra design av framtida system. \nSista anmälningsdag har passerat. \nLäs mer om innehållet i avhandlingen här.
URL:https://humanfactorsnetwork.se/aktivitet/webbinarium-modelling-intent-for-manned-unmanned-teaming-exploring-human-centric-approaches-for-future-combat-aircraft-systems/
LOCATION:Skype
CATEGORIES:För medlemmar,Webbinarium
END:VEVENT
END:VCALENDAR