BEGIN:VCALENDAR
VERSION:2.0
PRODID:-//HFN - ECPv6.15.20//NONSGML v1.0//EN
CALSCALE:GREGORIAN
METHOD:PUBLISH
X-WR-CALNAME:HFN
X-ORIGINAL-URL:https://humanfactorsnetwork.se
X-WR-CALDESC:Händelser för HFN
REFRESH-INTERVAL;VALUE=DURATION:PT1H
X-Robots-Tag:noindex
X-PUBLISHED-TTL:PT1H
BEGIN:VTIMEZONE
TZID:Europe/Stockholm
BEGIN:DAYLIGHT
TZOFFSETFROM:+0100
TZOFFSETTO:+0200
TZNAME:CEST
DTSTART:20200329T010000
END:DAYLIGHT
BEGIN:STANDARD
TZOFFSETFROM:+0200
TZOFFSETTO:+0100
TZNAME:CET
DTSTART:20201025T010000
END:STANDARD
BEGIN:DAYLIGHT
TZOFFSETFROM:+0100
TZOFFSETTO:+0200
TZNAME:CEST
DTSTART:20210328T010000
END:DAYLIGHT
BEGIN:STANDARD
TZOFFSETFROM:+0200
TZOFFSETTO:+0100
TZNAME:CET
DTSTART:20211031T010000
END:STANDARD
BEGIN:DAYLIGHT
TZOFFSETFROM:+0100
TZOFFSETTO:+0200
TZNAME:CEST
DTSTART:20220327T010000
END:DAYLIGHT
BEGIN:STANDARD
TZOFFSETFROM:+0200
TZOFFSETTO:+0100
TZNAME:CET
DTSTART:20221030T010000
END:STANDARD
END:VTIMEZONE
BEGIN:VEVENT
DTSTART;TZID=Europe/Stockholm:20210527T130000
DTEND;TZID=Europe/Stockholm:20210527T150000
DTSTAMP:20260425T161036
CREATED:20220616T121307Z
LAST-MODIFIED:20220616T121409Z
UID:802-1622120400-1622127600@humanfactorsnetwork.se
SUMMARY:Webbinarium: Safety Management from Compliance to Excellence - ORION (Erasmus)
DESCRIPTION:There are many standard training blocks for safety management systems like safety culture\, reporting culture\, risk management process\, hazard identification and risk assessment etc. For compliance these components need to be present in the organisation\, but for excellence\, they need to work as a whole together. In other words sometimes expressed as “the SMS needs to be fully embedded\, and part of “the way we do things around here”. \nThis webinar will present research that has taken these basics further towards excellence and recent training development. Examples of prerequisites that are assumed to be present in the organisation already before integrating safety into everyday business will be discussed as well as data driven and evidence based system change. \nVärd: Pernilla Ulfvengren\, KTH
URL:https://humanfactorsnetwork.se/aktivitet/webbinarium-safety-management-from-compliance-to-excellence-orion-erasmus/
LOCATION:Zoom
CATEGORIES:För medlemmar,Webbinarium
END:VEVENT
END:VCALENDAR