BEGIN:VCALENDAR
VERSION:2.0
PRODID:-//HFN - ECPv6.15.20//NONSGML v1.0//EN
CALSCALE:GREGORIAN
METHOD:PUBLISH
X-WR-CALNAME:HFN
X-ORIGINAL-URL:https://humanfactorsnetwork.se
X-WR-CALDESC:Händelser för HFN
REFRESH-INTERVAL;VALUE=DURATION:PT1H
X-Robots-Tag:noindex
X-PUBLISHED-TTL:PT1H
BEGIN:VTIMEZONE
TZID:Europe/Stockholm
BEGIN:DAYLIGHT
TZOFFSETFROM:+0100
TZOFFSETTO:+0200
TZNAME:CEST
DTSTART:20200329T010000
END:DAYLIGHT
BEGIN:STANDARD
TZOFFSETFROM:+0200
TZOFFSETTO:+0100
TZNAME:CET
DTSTART:20201025T010000
END:STANDARD
BEGIN:DAYLIGHT
TZOFFSETFROM:+0100
TZOFFSETTO:+0200
TZNAME:CEST
DTSTART:20210328T010000
END:DAYLIGHT
BEGIN:STANDARD
TZOFFSETFROM:+0200
TZOFFSETTO:+0100
TZNAME:CET
DTSTART:20211031T010000
END:STANDARD
BEGIN:DAYLIGHT
TZOFFSETFROM:+0100
TZOFFSETTO:+0200
TZNAME:CEST
DTSTART:20220327T010000
END:DAYLIGHT
BEGIN:STANDARD
TZOFFSETFROM:+0200
TZOFFSETTO:+0100
TZNAME:CET
DTSTART:20221030T010000
END:STANDARD
END:VTIMEZONE
BEGIN:VEVENT
DTSTART;TZID=Europe/Stockholm:20210423T120000
DTEND;TZID=Europe/Stockholm:20210423T130000
DTSTAMP:20260425T173255
CREATED:20220616T121831Z
LAST-MODIFIED:20220616T121831Z
UID:807-1619179200-1619182800@humanfactorsnetwork.se
SUMMARY:Webbinarium: Den (o)mänskliga faktorn. MTO - Digitalisering och automatisering för säkerhet och hållbarhet.
DESCRIPTION:Författarna Lena Kecklund och Bengt Sandblad berättar om sin nya bok. Varför vi skrev den och för vem. \nDe tekniska system som människor ska behärska i arbetslivet blir allt komplexare. även organisationer förändras med nya affärsmodeller och oklara ansvar. Hur kan de nya möjligheterna som digitalisering\, automatisering\, robotisering och AI ger utnyttjas till förbättringar av verksamheter och arbetsmiljö – samtidigt som sårbarhet och risker minimeras? Hur kan MTO-perspektivet tillämpas för att skapa säkra\, användbara och hållbara system? Boken ger såväl grundläggande kunskaper som exempel på metoder för hur framgångsrikt förändringsarbete kan bedrivas i praktiken från ett MTO-perspektiv. \nVärd: Lena Kecklund\, MTO Säkerhet AB
URL:https://humanfactorsnetwork.se/aktivitet/webbinarium-den-omanskliga-faktorn-mto-digitalisering-och-automatisering-for-sakerhet-och-hallbarhet/
LOCATION:Zoom
CATEGORIES:För medlemmar,Webbinarium
END:VEVENT
END:VCALENDAR