BEGIN:VCALENDAR
VERSION:2.0
PRODID:-//HFN - ECPv6.15.20//NONSGML v1.0//EN
CALSCALE:GREGORIAN
METHOD:PUBLISH
X-ORIGINAL-URL:https://humanfactorsnetwork.se
X-WR-CALDESC:Händelser för HFN
REFRESH-INTERVAL;VALUE=DURATION:PT1H
X-Robots-Tag:noindex
X-PUBLISHED-TTL:PT1H
BEGIN:VTIMEZONE
TZID:Europe/Stockholm
BEGIN:DAYLIGHT
TZOFFSETFROM:+0100
TZOFFSETTO:+0200
TZNAME:CEST
DTSTART:20200329T010000
END:DAYLIGHT
BEGIN:STANDARD
TZOFFSETFROM:+0200
TZOFFSETTO:+0100
TZNAME:CET
DTSTART:20201025T010000
END:STANDARD
BEGIN:DAYLIGHT
TZOFFSETFROM:+0100
TZOFFSETTO:+0200
TZNAME:CEST
DTSTART:20210328T010000
END:DAYLIGHT
BEGIN:STANDARD
TZOFFSETFROM:+0200
TZOFFSETTO:+0100
TZNAME:CET
DTSTART:20211031T010000
END:STANDARD
BEGIN:DAYLIGHT
TZOFFSETFROM:+0100
TZOFFSETTO:+0200
TZNAME:CEST
DTSTART:20220327T010000
END:DAYLIGHT
BEGIN:STANDARD
TZOFFSETFROM:+0200
TZOFFSETTO:+0100
TZNAME:CET
DTSTART:20221030T010000
END:STANDARD
END:VTIMEZONE
BEGIN:VEVENT
DTSTART;TZID=Europe/Stockholm:20210302T130000
DTEND;TZID=Europe/Stockholm:20210302T143000
DTSTAMP:20260425T184733
CREATED:20220617T091019Z
LAST-MODIFIED:20220617T091103Z
UID:852-1614690000-1614695400@humanfactorsnetwork.se
SUMMARY:Webbinarium: Kontroll\, beskydd och ledarskap! En introduktion till maskulina ideal inom säkerhet och kris
DESCRIPTION:I vårt samhälle finns historiska normer och ideal som vi oreflekterat tagit över. De påverkar hur vi tänker kring mål\, funktioner\, uppgifter och vem användaren är. Det påverkar också hur vi ser på säkerhet\, vad vi ser som sårbart och när vi upplever oss nöjda med våra åtgärder. Det sätts alltmer press på organisationer att jobba normkritiskt\, men det är samtidigt vanligt att organisationer säger att ”hos oss finns inga destruktiva strukturer”. Sådana uttalanden riskerar att stänga dörren till ett givande utvecklingsarbete och indikerar att det finns behov av att förstå\, förklara och exemplifiera strukturella analysmodeller mer. \nMed design och säkerhets- och krisområdet som exempel kommer industriforskaren Helene Degerman/RISE under seminariet ge en introduktion till: \n\nmaskulina ideal inom säkerhet och krishantering\nhur idealen visar sig i vårt praktiska arbete med säkerhet och kris\nhur idealen reproduceras i designprocesser\nhur vi kan jobba i praktiken för att synliggöra och problematisera normer och våga prova nya tanke- och arbetssätt.\n\nVärd: Martina Berglund \nFör att få tillgång till kursmaterial\, kontakta HFN-administratören.
URL:https://humanfactorsnetwork.se/aktivitet/webbinarium-kontroll-beskydd-och-ledarskap-en-introduktion-till-maskulina-ideal-inom-sakerhet-och-kris/
LOCATION:Zoom
CATEGORIES:För medlemmar,Webbinarium
END:VEVENT
BEGIN:VEVENT
DTSTART;TZID=Europe/Stockholm:20210324T100000
DTEND;TZID=Europe/Stockholm:20210324T110000
DTSTAMP:20260425T184733
CREATED:20220616T122112Z
LAST-MODIFIED:20220616T122311Z
UID:809-1616580000-1616583600@humanfactorsnetwork.se
SUMMARY:Webbinarium: Riktlinjer för testverksamhet av autonoma fordon/farkoster. Utmaningar och möjligheter. Exempel från olika trafikslag.
DESCRIPTION:Utvecklingen av autonoma fordon/farkoster går fort och önskemål kring att få utföra testverksamhet ökar. Transportstyrelsens hantering av önskemål om testverksamhet påverkas av en rad aspekter. Testverksamhet främjar teknisk utveckling på området men det finns också utmaningar som behöver beaktas\, t.ex. kan olika regelverk beröras och det kan finnas risker kopplat till bl.a. säkerhet\, behörigheter och kompetens. Vid webbinariet kommer exempel på detta att presenteras samt en eller annan fråga för diskussion. \nPresentation cirka 30 minuter följt av ca 30 min för diskussion. \nVärdar: Anders Nyberg och Sixten Nolén\, Transportstyrelsen.
URL:https://humanfactorsnetwork.se/aktivitet/webbinarium-riktlinjer-for-testverksamhet-av-autonoma-fordon-farkoster-utmaningar-och-mojligheter-exempel-fran-olika-trafikslag/
LOCATION:Zoom
CATEGORIES:För medlemmar,Webbinarium
END:VEVENT
END:VCALENDAR