BEGIN:VCALENDAR
VERSION:2.0
PRODID:-//HFN - ECPv6.15.20//NONSGML v1.0//EN
CALSCALE:GREGORIAN
METHOD:PUBLISH
X-WR-CALNAME:HFN
X-ORIGINAL-URL:https://humanfactorsnetwork.se
X-WR-CALDESC:Händelser för HFN
REFRESH-INTERVAL;VALUE=DURATION:PT1H
X-Robots-Tag:noindex
X-PUBLISHED-TTL:PT1H
BEGIN:VTIMEZONE
TZID:Europe/Stockholm
BEGIN:DAYLIGHT
TZOFFSETFROM:+0100
TZOFFSETTO:+0200
TZNAME:CEST
DTSTART:20240331T010000
END:DAYLIGHT
BEGIN:STANDARD
TZOFFSETFROM:+0200
TZOFFSETTO:+0100
TZNAME:CET
DTSTART:20241027T010000
END:STANDARD
BEGIN:DAYLIGHT
TZOFFSETFROM:+0100
TZOFFSETTO:+0200
TZNAME:CEST
DTSTART:20250330T010000
END:DAYLIGHT
BEGIN:STANDARD
TZOFFSETFROM:+0200
TZOFFSETTO:+0100
TZNAME:CET
DTSTART:20251026T010000
END:STANDARD
BEGIN:DAYLIGHT
TZOFFSETFROM:+0100
TZOFFSETTO:+0200
TZNAME:CEST
DTSTART:20260329T010000
END:DAYLIGHT
BEGIN:STANDARD
TZOFFSETFROM:+0200
TZOFFSETTO:+0100
TZNAME:CET
DTSTART:20261025T010000
END:STANDARD
END:VTIMEZONE
BEGIN:VEVENT
DTSTART;TZID=Europe/Stockholm:20250423T114500
DTEND;TZID=Europe/Stockholm:20250424T130000
DTSTAMP:20260422T093117
CREATED:20250313T145139Z
LAST-MODIFIED:20250415T084410Z
UID:3185-1745408700-1745499600@humanfactorsnetwork.se
SUMMARY:MTO-kurs: Arbetspraktikers betydelse vid systemanvändning och systemdesign - Teori och metod
DESCRIPTION:Kursbeskrivning\nKursen handlar om analyser av verksamhetsnära arbetspraktiker och den tar avstamp i olyckor eller incidenter som har hänt i verkligheten. \nI den första delen går vi igenom hur vi undervisar studenter som går sista året på sin ingenjörsutbildning i riskanalyser med fokus på MTO-aspekter. Många av dem får sin första anställning i organisationer och företag som arbetar med risk-analyser och säkerhetskulturer. Att lära sig förstå varför olyckor i sociotekniska system händer ger dem en bra start i arbetslivet. Fokus ligger på hur litteraturen använder begrepp som säkerhet och sannolikhet\, samt användningen av olika analysverktyg. \nKursen fortsätter sedan med exempel från fältstudier av arbetspraktiker i olika projekt\, och vi introducerar ett systemperspektiv på mänsklig kognition som omfattar analyser av distribuerad\, situerad och kroppsbaserad kognition vilket kräver verksamhetsnära analyser av arbetspraktikerna. En specifik metod för att förstå det mänskliga bidragets natur i sådana arbetspraktiker introduceras och vi diskuterar för- och nackdelar med den. Metoden har sitt ursprung i projekt där Uppsalagruppens MTO-forskare medverkat. \nKursen avslutas sedan med två pass om nödvändigheten med en helhetssyn på arbetspraktikernas och det mänskliga bidragets betydelse vid utveckling av säkra och effektiva sociotekniska system\, samt hur vi som arbetar med MTO-frågor på ett bättre sätt kan bidra i samhällsdebatten. \nFöredragshållare:\nAnders Arweström Jansson\, professor\, Institutionen för informationsteknologi\, Uppsala universitet\nJessica Lindblom\, universitetslektor\, Institutionen för informationsteknologi\, Uppsala universitet\nBengt Sandblad\, professor emeritus\, Institutionen för informationsteknologi\, Uppsala universitet \nDetaljerat program \nAdministrativ information och anmälan\nTid: 23 april kl. 11:45-17 därefter frivillig After Work\, samt 24 april kl. 8:30–13:00\nPlats: Ångströmlaboratoriet\, Hus 10\, Regementsvägen 10\, Uppsala (karta) \nAvgift för HFN-medlemmar: 3 000 kr exkl. moms för deltagare utöver de reserverade gratisplatserna.\nAvgift för icke HFN-medlemmar: 4 500 kr exkl. moms. \nFör deltagare på plats ingår fika och lunch båda dagarna i avgiften. Resor och boende ombesörjs av deltagaren. \nAnmälan till detta evenemang. Sista anmälningsdatum är 14 april. Har du frågor – tveka inte att höra av dig till camilla.broman@liu.se! \n  \n  \n 
URL:https://humanfactorsnetwork.se/aktivitet/mto-kurs-arbetspraktikers-betydelse-vid-systemanvandning-och-systemdesign-teori-och-metod/
LOCATION:Ångströmslaboratoriet\, Regementsvägen 10\, Uppsala
CATEGORIES:För medlemmar,Kurs,Publikt
END:VEVENT
END:VCALENDAR