BEGIN:VCALENDAR
VERSION:2.0
PRODID:-//HFN - ECPv6.15.20//NONSGML v1.0//EN
CALSCALE:GREGORIAN
METHOD:PUBLISH
X-WR-CALNAME:HFN
X-ORIGINAL-URL:https://humanfactorsnetwork.se
X-WR-CALDESC:Händelser för HFN
REFRESH-INTERVAL;VALUE=DURATION:PT1H
X-Robots-Tag:noindex
X-PUBLISHED-TTL:PT1H
BEGIN:VTIMEZONE
TZID:Europe/Stockholm
BEGIN:DAYLIGHT
TZOFFSETFROM:+0100
TZOFFSETTO:+0200
TZNAME:CEST
DTSTART:20180325T010000
END:DAYLIGHT
BEGIN:STANDARD
TZOFFSETFROM:+0200
TZOFFSETTO:+0100
TZNAME:CET
DTSTART:20181028T010000
END:STANDARD
BEGIN:DAYLIGHT
TZOFFSETFROM:+0100
TZOFFSETTO:+0200
TZNAME:CEST
DTSTART:20190331T010000
END:DAYLIGHT
BEGIN:STANDARD
TZOFFSETFROM:+0200
TZOFFSETTO:+0100
TZNAME:CET
DTSTART:20191027T010000
END:STANDARD
BEGIN:DAYLIGHT
TZOFFSETFROM:+0100
TZOFFSETTO:+0200
TZNAME:CEST
DTSTART:20200329T010000
END:DAYLIGHT
BEGIN:STANDARD
TZOFFSETFROM:+0200
TZOFFSETTO:+0100
TZNAME:CET
DTSTART:20201025T010000
END:STANDARD
END:VTIMEZONE
BEGIN:VEVENT
DTSTART;TZID=Europe/Stockholm:20191210T100000
DTEND;TZID=Europe/Stockholm:20191211T153000
DTSTAMP:20260424T093157
CREATED:20220617T093954Z
LAST-MODIFIED:20220617T094345Z
UID:861-1575972000-1576078200@humanfactorsnetwork.se
SUMMARY:CRM-seminarium
DESCRIPTION:För att få tillgång till kursmaterial\, kontakta HFN-administratören. \nProgram\nPresentation av Malmen\nKk Per Skanz\, Stabschef \nRegelkrav för CRM inom civil luftfart – en kort återblick\nNicklas Svensson\, Transportstyrelsen \nCRM på helikopterdivision\nMj Richard Kankare\, Pilot 4:e skvadron\, Helikopterflottiljen \nCRM i krävande miljö där flyg och sjukvård möts\nTommy Sarwien\, Pilot\, Svensk luftambulans \nCRM – how do we reach people?\nJesper Høyer Rasmussen\, Training Director och Anne Sølvsteen\, CEO\, NaviMinds \nTeam Resource Management in Air Traffic Control: “Ups and downs and forward”\nBoel Stefansson\, Watch Supervisor\, LFV \nCRM i Flight Crew och Cabin Crew\nEmil Moberg\, Cabin Safety Instructor\, Braathens Regional Airlines \nBRM during Pilotage – from a practitioner perspective\nHans Anders Pedersen\, Vice lodschef/Deputy Chief Pilot\, DanPilot \nDelivery of CRM training up to now and salience of CRM in evidence based training for tomorrow\nDr Anthony Smoker\, TFHS
URL:https://humanfactorsnetwork.se/aktivitet/crm-seminarium/
LOCATION:Malmen\, Linköping\, Malmen flygplats\, Linköping\, 586 62
CATEGORIES:CRM-seminarium,För medlemmar
END:VEVENT
END:VCALENDAR